Package: SeqGSEA Version: 1.46.0 Command: F:\biocbuild\bbs-3.20-bioc\R\bin\R.exe CMD INSTALL SeqGSEA StartedAt: 2025-01-30 15:59:51 -0500 (Thu, 30 Jan 2025) EndedAt: 2025-01-30 16:00:57 -0500 (Thu, 30 Jan 2025) EllapsedTime: 65.9 seconds RetCode: 0 Status: OK