Package: SeqGSEA Version: 1.46.0 Command: /home/biocbuild/R/R/bin/R CMD INSTALL SeqGSEA StartedAt: 2025-02-03 20:50:55 -0000 (Mon, 03 Feb 2025) EndedAt: 2025-02-03 20:51:37 -0000 (Mon, 03 Feb 2025) EllapsedTime: 41.8 seconds RetCode: 0 Status: OK