Package: SeqSQC Version: 1.28.0 Command: /Library/Frameworks/R.framework/Resources/bin/R CMD build --keep-empty-dirs --no-resave-data SeqSQC StartedAt: 2025-02-04 08:07:50 -0500 (Tue, 04 Feb 2025) EndedAt: 2025-02-04 08:09:07 -0500 (Tue, 04 Feb 2025) EllapsedTime: 76.9 seconds RetCode: 0 Status: OK PackageFile: SeqSQC_1.28.0.tar.gz PackageFileSize: 4.529 MiB