Package: SeqSQC Version: 1.28.0 Command: /Library/Frameworks/R.framework/Resources/bin/R CMD check --install=check:SeqSQC.install-out.txt --library=/Library/Frameworks/R.framework/Resources/library --no-vignettes --timings SeqSQC_1.28.0.tar.gz StartedAt: 2025-02-05 10:00:47 -0500 (Wed, 05 Feb 2025) EndedAt: 2025-02-05 10:04:23 -0500 (Wed, 05 Feb 2025) EllapsedTime: 215.4 seconds RetCode: 0 Status: WARNINGS CheckDir: SeqSQC.Rcheck Warnings: 1