Package: SeqSQC Version: 1.28.0 Command: /Library/Frameworks/R.framework/Resources/bin/R CMD INSTALL SeqSQC StartedAt: 2025-02-03 16:06:36 -0500 (Mon, 03 Feb 2025) EndedAt: 2025-02-03 16:07:22 -0500 (Mon, 03 Feb 2025) EllapsedTime: 46.0 seconds RetCode: 0 Status: OK