Package: SeqSQC Version: 1.28.0 Command: F:\biocbuild\bbs-3.20-bioc\R\bin\R.exe CMD INSTALL SeqSQC StartedAt: 2025-02-03 16:02:56 -0500 (Mon, 03 Feb 2025) EndedAt: 2025-02-03 16:03:37 -0500 (Mon, 03 Feb 2025) EllapsedTime: 41.1 seconds RetCode: 0 Status: OK