Package: SeqSQC Version: 1.28.0 Command: /home/biocbuild/R/R/bin/R CMD build --keep-empty-dirs --no-resave-data SeqSQC StartedAt: 2025-02-11 02:34:01 -0000 (Tue, 11 Feb 2025) EndedAt: 2025-02-11 02:35:11 -0000 (Tue, 11 Feb 2025) EllapsedTime: 70.0 seconds RetCode: 0 Status: OK PackageFile: SeqSQC_1.28.0.tar.gz PackageFileSize: 4.94 MiB