Package: SeqSQC Version: 1.28.0 Command: /home/biocbuild/R/R/bin/R CMD INSTALL SeqSQC StartedAt: 2025-02-03 20:57:48 -0000 (Mon, 03 Feb 2025) EndedAt: 2025-02-03 20:58:13 -0000 (Mon, 03 Feb 2025) EllapsedTime: 25.5 seconds RetCode: 0 Status: OK