Package: SimFFPE Version: 1.18.0 Command: /Library/Frameworks/R.framework/Resources/bin/R CMD build --keep-empty-dirs --no-resave-data SimFFPE StartedAt: 2025-02-04 08:21:40 -0500 (Tue, 04 Feb 2025) EndedAt: 2025-02-04 08:23:40 -0500 (Tue, 04 Feb 2025) EllapsedTime: 120.3 seconds RetCode: 0 Status: OK PackageFile: SimFFPE_1.18.0.tar.gz PackageFileSize: 750 KiB