Package: SimFFPE Version: 1.18.0 Command: /home/biocbuild/bbs-3.20-bioc/R/bin/R CMD check --install=check:SimFFPE.install-out.txt --library=/home/biocbuild/bbs-3.20-bioc/R/site-library --timings SimFFPE_1.18.0.tar.gz StartedAt: 2025-02-04 02:32:14 -0500 (Tue, 04 Feb 2025) EndedAt: 2025-02-04 02:37:13 -0500 (Tue, 04 Feb 2025) EllapsedTime: 299.3 seconds RetCode: 0 Status: OK CheckDir: SimFFPE.Rcheck Warnings: 0