Package: SimFFPE Version: 1.18.0 Command: /home/biocbuild/bbs-3.20-bioc/R/bin/R CMD INSTALL SimFFPE StartedAt: 2025-02-03 15:28:46 -0500 (Mon, 03 Feb 2025) EndedAt: 2025-02-03 15:28:59 -0500 (Mon, 03 Feb 2025) EllapsedTime: 12.9 seconds RetCode: 0 Status: OK