Package: SimFFPE Version: 1.18.0 Command: rm -rf SimFFPE.buildbin-libdir && mkdir SimFFPE.buildbin-libdir && F:\biocbuild\bbs-3.20-bioc\R\bin\R.exe CMD INSTALL --build --library=SimFFPE.buildbin-libdir SimFFPE_1.18.0.tar.gz StartedAt: 2025-02-04 09:32:24 -0500 (Tue, 04 Feb 2025) EndedAt: 2025-02-04 09:32:46 -0500 (Tue, 04 Feb 2025) EllapsedTime: 22.5 seconds RetCode: 0 Status: OK PackageFile: SimFFPE_1.18.0.zip PackageFileSize: 802 KiB