Package: SimFFPE Version: 1.18.0 Command: chmod a+r SimFFPE -R && F:\biocbuild\bbs-3.20-bioc\R\bin\R.exe CMD build --keep-empty-dirs --no-resave-data SimFFPE StartedAt: 2025-02-03 22:10:54 -0500 (Mon, 03 Feb 2025) EndedAt: 2025-02-03 22:12:39 -0500 (Mon, 03 Feb 2025) EllapsedTime: 105.6 seconds RetCode: 0 Status: OK PackageFile: SimFFPE_1.18.0.tar.gz PackageFileSize: 749.9 KiB