Package: SimFFPE Version: 1.18.0 Command: F:\biocbuild\bbs-3.20-bioc\R\bin\R.exe CMD INSTALL SimFFPE StartedAt: 2025-02-03 15:56:02 -0500 (Mon, 03 Feb 2025) EndedAt: 2025-02-03 15:56:22 -0500 (Mon, 03 Feb 2025) EllapsedTime: 19.5 seconds RetCode: 0 Status: OK