Package: SimFFPE Version: 1.18.0 Command: /home/biocbuild/R/R/bin/R CMD build --keep-empty-dirs --no-resave-data SimFFPE StartedAt: 2025-02-04 03:01:37 -0000 (Tue, 04 Feb 2025) EndedAt: 2025-02-04 03:04:19 -0000 (Tue, 04 Feb 2025) EllapsedTime: 162.2 seconds RetCode: 0 Status: OK PackageFile: SimFFPE_1.18.0.tar.gz PackageFileSize: 741.2 KiB