Package: SimFFPE Version: 1.18.0 Command: /home/biocbuild/R/R/bin/R CMD INSTALL SimFFPE StartedAt: 2025-02-03 20:37:24 -0000 (Mon, 03 Feb 2025) EndedAt: 2025-02-03 20:37:41 -0000 (Mon, 03 Feb 2025) EllapsedTime: 17.4 seconds RetCode: 0 Status: OK