Package: SingleCellAlleleExperiment Version: 1.2.0 Command: rm -rf SingleCellAlleleExperiment.buildbin-libdir && mkdir SingleCellAlleleExperiment.buildbin-libdir && /Users/biocbuild/BBS/utils/build-universal.sh SingleCellAlleleExperiment_1.2.0.tar.gz /Library/Frameworks/R.framework/Resources/bin/R SingleCellAlleleExperiment.buildbin-libdir StartedAt: 2025-02-12 17:05:36 -0500 (Wed, 12 Feb 2025) EndedAt: 2025-02-12 17:06:08 -0500 (Wed, 12 Feb 2025) EllapsedTime: 31.5 seconds RetCode: 0 Status: OK PackageFile: SingleCellAlleleExperiment_1.2.0.tgz PackageFileSize: 2.091 MiB