Package: SingleCellAlleleExperiment Version: 1.2.0 Command: /Library/Frameworks/R.framework/Resources/bin/R CMD build --keep-empty-dirs --no-resave-data SingleCellAlleleExperiment StartedAt: 2025-02-04 08:26:52 -0500 (Tue, 04 Feb 2025) EndedAt: 2025-02-04 08:35:14 -0500 (Tue, 04 Feb 2025) EllapsedTime: 501.6 seconds RetCode: 0 Status: OK PackageFile: SingleCellAlleleExperiment_1.2.0.tar.gz PackageFileSize: 2.248 MiB