Package: SingleCellAlleleExperiment Version: 1.2.0 Command: rm -rf SingleCellAlleleExperiment.buildbin-libdir && mkdir SingleCellAlleleExperiment.buildbin-libdir && /Users/biocbuild/BBS/utils/build-universal.sh SingleCellAlleleExperiment_1.2.0.tar.gz /Library/Frameworks/R.framework/Resources/bin/R SingleCellAlleleExperiment.buildbin-libdir StartedAt: 2025-01-31 13:43:50 -0500 (Fri, 31 Jan 2025) EndedAt: 2025-01-31 13:44:43 -0500 (Fri, 31 Jan 2025) EllapsedTime: 53.6 seconds RetCode: 0 Status: OK PackageFile: SingleCellAlleleExperiment_1.2.0.tgz PackageFileSize: 1.881 MiB