Package: SingleCellAlleleExperiment Version: 1.2.0 Command: chmod a+r SingleCellAlleleExperiment -R && F:\biocbuild\bbs-3.20-bioc\R\bin\R.exe CMD build --keep-empty-dirs --no-resave-data SingleCellAlleleExperiment StartedAt: 2025-02-10 22:07:06 -0500 (Mon, 10 Feb 2025) EndedAt: 2025-02-10 22:08:20 -0500 (Mon, 10 Feb 2025) EllapsedTime: 73.6 seconds RetCode: 1 Status: ERROR PackageFile: None PackageFileSize: NA