Package: SingleCellExperiment Version: 1.28.1 Command: rm -rf SingleCellExperiment.buildbin-libdir && mkdir SingleCellExperiment.buildbin-libdir && /Users/biocbuild/BBS/utils/build-universal.sh SingleCellExperiment_1.28.1.tar.gz /Library/Frameworks/R.framework/Resources/bin/R SingleCellExperiment.buildbin-libdir StartedAt: 2025-02-01 16:56:48 -0500 (Sat, 01 Feb 2025) EndedAt: 2025-02-01 16:57:21 -0500 (Sat, 01 Feb 2025) EllapsedTime: 32.7 seconds RetCode: 0 Status: OK PackageFile: SingleCellExperiment_1.28.1.tgz PackageFileSize: 1.877 MiB