Package: SingleCellExperiment Version: 1.28.1 Command: /Library/Frameworks/R.framework/Resources/bin/R CMD INSTALL SingleCellExperiment StartedAt: 2025-01-30 15:26:52 -0500 (Thu, 30 Jan 2025) EndedAt: 2025-01-30 15:27:22 -0500 (Thu, 30 Jan 2025) EllapsedTime: 29.6 seconds RetCode: 0 Status: OK