Package: SingleCellExperiment Version: 1.28.1 Command: rm -rf SingleCellExperiment.buildbin-libdir && mkdir SingleCellExperiment.buildbin-libdir && /Users/biocbuild/BBS/utils/build-universal.sh SingleCellExperiment_1.28.1.tar.gz /Library/Frameworks/R.framework/Resources/bin/R SingleCellExperiment.buildbin-libdir StartedAt: 2025-01-31 13:43:50 -0500 (Fri, 31 Jan 2025) EndedAt: 2025-01-31 13:44:50 -0500 (Fri, 31 Jan 2025) EllapsedTime: 60.1 seconds RetCode: 0 Status: OK PackageFile: SingleCellExperiment_1.28.1.tgz PackageFileSize: 1.877 MiB