Package: SingleCellExperiment Version: 1.28.1 Command: /Library/Frameworks/R.framework/Resources/bin/R CMD build --keep-empty-dirs --no-resave-data SingleCellExperiment StartedAt: 2025-01-30 22:56:50 -0500 (Thu, 30 Jan 2025) EndedAt: 2025-01-30 22:59:19 -0500 (Thu, 30 Jan 2025) EllapsedTime: 149.7 seconds RetCode: 0 Status: OK PackageFile: SingleCellExperiment_1.28.1.tar.gz PackageFileSize: 962.2 KiB