Package: SingleCellExperiment Version: 1.28.1 Command: /Library/Frameworks/R.framework/Resources/bin/R CMD INSTALL SingleCellExperiment StartedAt: 2025-01-30 15:20:46 -0500 (Thu, 30 Jan 2025) EndedAt: 2025-01-30 15:21:45 -0500 (Thu, 30 Jan 2025) EllapsedTime: 59.6 seconds RetCode: 0 Status: OK