Package: SingleCellExperiment Version: 1.28.1 Command: /home/biocbuild/bbs-3.20-bioc/R/bin/R CMD build --keep-empty-dirs --no-resave-data --md5 SingleCellExperiment StartedAt: 2025-01-30 19:12:08 -0500 (Thu, 30 Jan 2025) EndedAt: 2025-01-30 19:13:16 -0500 (Thu, 30 Jan 2025) EllapsedTime: 68.1 seconds RetCode: 0 Status: OK PackageFile: SingleCellExperiment_1.28.1.tar.gz PackageFileSize: 964.8 KiB