Package: SingleCellExperiment Version: 1.28.1 Command: rm -rf SingleCellExperiment.buildbin-libdir && mkdir SingleCellExperiment.buildbin-libdir && F:\biocbuild\bbs-3.20-bioc\R\bin\R.exe CMD INSTALL --build --library=SingleCellExperiment.buildbin-libdir SingleCellExperiment_1.28.1.tar.gz StartedAt: 2025-01-31 09:39:00 -0500 (Fri, 31 Jan 2025) EndedAt: 2025-01-31 09:45:24 -0500 (Fri, 31 Jan 2025) EllapsedTime: 384.1 seconds RetCode: 0 Status: OK PackageFile: SingleCellExperiment_1.28.1.zip PackageFileSize: 1.89 MiB