Package: SingleCellExperiment Version: 1.28.1 Command: chmod a+r SingleCellExperiment -R && F:\biocbuild\bbs-3.20-bioc\R\bin\R.exe CMD build --keep-empty-dirs --no-resave-data SingleCellExperiment StartedAt: 2025-01-30 21:55:31 -0500 (Thu, 30 Jan 2025) EndedAt: 2025-01-30 21:57:53 -0500 (Thu, 30 Jan 2025) EllapsedTime: 142.3 seconds RetCode: 0 Status: OK PackageFile: SingleCellExperiment_1.28.1.tar.gz PackageFileSize: 963 KiB