Package: SingleCellExperiment Version: 1.28.1 Command: F:\biocbuild\bbs-3.20-bioc\R\bin\R.exe CMD INSTALL SingleCellExperiment StartedAt: 2025-01-30 15:58:30 -0500 (Thu, 30 Jan 2025) EndedAt: 2025-01-30 16:01:59 -0500 (Thu, 30 Jan 2025) EllapsedTime: 208.6 seconds RetCode: 0 Status: OK