Package: SingleMoleculeFootprinting Version: 2.0.0 Command: /Library/Frameworks/R.framework/Resources/bin/R CMD INSTALL SingleMoleculeFootprinting StartedAt: 2025-01-30 16:42:01 -0500 (Thu, 30 Jan 2025) EndedAt: 2025-01-30 16:43:00 -0500 (Thu, 30 Jan 2025) EllapsedTime: 59.3 seconds RetCode: 0 Status: OK