Package: SingleMoleculeFootprinting Version: 2.0.0 Command: /Library/Frameworks/R.framework/Resources/bin/R CMD build --keep-empty-dirs --no-resave-data SingleMoleculeFootprinting StartedAt: 2025-02-03 22:24:59 -0500 (Mon, 03 Feb 2025) EndedAt: 2025-02-03 22:30:44 -0500 (Mon, 03 Feb 2025) EllapsedTime: 345.0 seconds RetCode: 0 Status: OK PackageFile: SingleMoleculeFootprinting_2.0.0.tar.gz PackageFileSize: 4.097 MiB