Package: SingleMoleculeFootprinting Version: 2.0.0 Command: /Library/Frameworks/R.framework/Resources/bin/R CMD INSTALL SingleMoleculeFootprinting StartedAt: 2025-01-30 15:58:38 -0500 (Thu, 30 Jan 2025) EndedAt: 2025-01-30 16:00:23 -0500 (Thu, 30 Jan 2025) EllapsedTime: 104.6 seconds RetCode: 0 Status: OK