Package: SingleMoleculeFootprinting Version: 2.0.0 Command: /home/biocbuild/bbs-3.20-bioc/R/bin/R CMD INSTALL SingleMoleculeFootprinting StartedAt: 2025-01-30 15:32:36 -0500 (Thu, 30 Jan 2025) EndedAt: 2025-01-30 15:33:31 -0500 (Thu, 30 Jan 2025) EllapsedTime: 54.6 seconds RetCode: 0 Status: OK