Package: SingleMoleculeFootprinting Version: 2.0.0 Command: F:\biocbuild\bbs-3.20-bioc\R\bin\R.exe CMD INSTALL SingleMoleculeFootprinting StartedAt: 2025-02-03 17:07:40 -0500 (Mon, 03 Feb 2025) EndedAt: 2025-02-03 17:11:10 -0500 (Mon, 03 Feb 2025) EllapsedTime: 209.6 seconds RetCode: 0 Status: OK