Package: SingleMoleculeFootprinting Version: 2.0.0 Command: /home/biocbuild/R/R/bin/R CMD INSTALL SingleMoleculeFootprinting StartedAt: 2025-02-03 20:55:19 -0000 (Mon, 03 Feb 2025) EndedAt: 2025-02-03 20:56:21 -0000 (Mon, 03 Feb 2025) EllapsedTime: 62.2 seconds RetCode: 0 Status: OK