Package: SomaticSignatures Version: 2.42.0 Command: rm -rf SomaticSignatures.buildbin-libdir && mkdir SomaticSignatures.buildbin-libdir && /Users/biocbuild/BBS/utils/build-universal.sh SomaticSignatures_2.42.0.tar.gz /Library/Frameworks/R.framework/Resources/bin/R SomaticSignatures.buildbin-libdir StartedAt: 2025-02-05 17:54:27 -0500 (Wed, 05 Feb 2025) EndedAt: 2025-02-05 17:55:40 -0500 (Wed, 05 Feb 2025) EllapsedTime: 72.3 seconds RetCode: 0 Status: OK PackageFile: SomaticSignatures_2.42.0.tgz PackageFileSize: 3.505 MiB