Package: SomaticSignatures Version: 2.42.0 Command: /Library/Frameworks/R.framework/Resources/bin/R CMD build --keep-empty-dirs --no-resave-data SomaticSignatures StartedAt: 2025-02-04 08:39:46 -0500 (Tue, 04 Feb 2025) EndedAt: 2025-02-04 08:43:15 -0500 (Tue, 04 Feb 2025) EllapsedTime: 209.3 seconds RetCode: 0 Status: OK PackageFile: SomaticSignatures_2.42.0.tar.gz PackageFileSize: 2.817 MiB