Package: SomaticSignatures Version: 2.42.0 Command: /Library/Frameworks/R.framework/Resources/bin/R CMD build --keep-empty-dirs --no-resave-data SomaticSignatures StartedAt: 2025-02-03 22:29:30 -0500 (Mon, 03 Feb 2025) EndedAt: 2025-02-03 22:34:53 -0500 (Mon, 03 Feb 2025) EllapsedTime: 322.7 seconds RetCode: 0 Status: OK PackageFile: SomaticSignatures_2.42.0.tar.gz PackageFileSize: 2.817 MiB