Package: SomaticSignatures Version: 2.42.0 Command: /Library/Frameworks/R.framework/Resources/bin/R CMD check --install=check:SomaticSignatures.install-out.txt --library=/Library/Frameworks/R.framework/Resources/library --no-vignettes --timings SomaticSignatures_2.42.0.tar.gz StartedAt: 2025-01-31 10:22:39 -0500 (Fri, 31 Jan 2025) EndedAt: 2025-01-31 10:36:43 -0500 (Fri, 31 Jan 2025) EllapsedTime: 844.7 seconds RetCode: 0 Status: OK CheckDir: SomaticSignatures.Rcheck Warnings: 0