Package: SomaticSignatures Version: 2.42.0 Command: /Library/Frameworks/R.framework/Resources/bin/R CMD INSTALL SomaticSignatures StartedAt: 2025-02-03 16:08:39 -0500 (Mon, 03 Feb 2025) EndedAt: 2025-02-03 16:10:35 -0500 (Mon, 03 Feb 2025) EllapsedTime: 116.1 seconds RetCode: 0 Status: OK