Package: SomaticSignatures Version: 2.42.0 Command: /home/biocbuild/bbs-3.20-bioc/R/bin/R CMD build --keep-empty-dirs --no-resave-data --md5 SomaticSignatures StartedAt: 2025-02-03 19:24:25 -0500 (Mon, 03 Feb 2025) EndedAt: 2025-02-03 19:26:59 -0500 (Mon, 03 Feb 2025) EllapsedTime: 154.2 seconds RetCode: 0 Status: OK PackageFile: SomaticSignatures_2.42.0.tar.gz PackageFileSize: 2.182 MiB