Package: SomaticSignatures Version: 2.42.0 Command: /home/biocbuild/bbs-3.20-bioc/R/bin/R CMD INSTALL SomaticSignatures StartedAt: 2025-02-03 15:44:50 -0500 (Mon, 03 Feb 2025) EndedAt: 2025-02-03 15:45:56 -0500 (Mon, 03 Feb 2025) EllapsedTime: 66.2 seconds RetCode: 0 Status: OK