Package: SomaticSignatures Version: 2.42.0 Command: chmod a+r SomaticSignatures -R && F:\biocbuild\bbs-3.20-bioc\R\bin\R.exe CMD build --keep-empty-dirs --no-resave-data SomaticSignatures StartedAt: 2025-02-03 22:16:02 -0500 (Mon, 03 Feb 2025) EndedAt: 2025-02-03 22:20:00 -0500 (Mon, 03 Feb 2025) EllapsedTime: 238.4 seconds RetCode: 0 Status: OK PackageFile: SomaticSignatures_2.42.0.tar.gz PackageFileSize: 783.5 KiB