Package: SomaticSignatures Version: 2.42.0 Command: F:\biocbuild\bbs-3.20-bioc\R\bin\R.exe CMD check --no-multiarch --install=check:SomaticSignatures.install-out.txt --library=F:\biocbuild\bbs-3.20-bioc\R\library --no-vignettes --timings SomaticSignatures_2.42.0.tar.gz StartedAt: 2025-02-04 06:29:31 -0500 (Tue, 04 Feb 2025) EndedAt: 2025-02-04 06:38:22 -0500 (Tue, 04 Feb 2025) EllapsedTime: 530.9 seconds RetCode: 0 Status: OK CheckDir: SomaticSignatures.Rcheck Warnings: 0