Package: SpaNorm Version: 1.0.0 Command: rm -rf SpaNorm.buildbin-libdir && mkdir SpaNorm.buildbin-libdir && /Users/biocbuild/BBS/utils/build-universal.sh SpaNorm_1.0.0.tar.gz /Library/Frameworks/R.framework/Resources/bin/R SpaNorm.buildbin-libdir StartedAt: 2024-11-09 17:13:16 -0500 (Sat, 09 Nov 2024) EndedAt: 2024-11-09 17:13:18 -0500 (Sat, 09 Nov 2024) EllapsedTime: 2.0 seconds RetCode: 0 Status: OK PackageFile: SpaNorm_1.0.0.tgz PackageFileSize: 6.992 MiB