Package: SpaNorm Version: 1.0.0 Command: /home/biocbuild/R/R/bin/R CMD build --keep-empty-dirs --no-resave-data SpaNorm StartedAt: 2024-11-20 04:06:24 -0000 (Wed, 20 Nov 2024) EndedAt: 2024-11-20 04:12:25 -0000 (Wed, 20 Nov 2024) EllapsedTime: 360.5 seconds RetCode: 0 Status: OK PackageFile: SpaNorm_1.0.0.tar.gz PackageFileSize: 6.014 MiB