Package: SpaNorm Version: 1.0.0 Command: /home/biocbuild/bbs-3.20-bioc/R/bin/R CMD check --install=check:SpaNorm.install-out.txt --library=/home/biocbuild/bbs-3.20-bioc/R/site-library --timings SpaNorm_1.0.0.tar.gz StartedAt: 2025-01-31 02:30:58 -0500 (Fri, 31 Jan 2025) EndedAt: 2025-01-31 02:39:12 -0500 (Fri, 31 Jan 2025) EllapsedTime: 494.5 seconds RetCode: 0 Status: OK CheckDir: SpaNorm.Rcheck Warnings: 0