Package: SpaNorm Version: 1.0.0 Command: rm -rf SpaNorm.buildbin-libdir && mkdir SpaNorm.buildbin-libdir && F:\biocbuild\bbs-3.20-bioc\R\bin\R.exe CMD INSTALL --build --library=SpaNorm.buildbin-libdir SpaNorm_1.0.0.tar.gz StartedAt: 2025-01-31 09:40:47 -0500 (Fri, 31 Jan 2025) EndedAt: 2025-01-31 09:40:56 -0500 (Fri, 31 Jan 2025) EllapsedTime: 9.6 seconds RetCode: 0 Status: OK PackageFile: SpaNorm_1.0.0.zip PackageFileSize: 5.074 MiB