Package: SpaNorm Version: 1.0.0 Command: chmod a+r SpaNorm -R && F:\biocbuild\bbs-3.20-bioc\R\bin\R.exe CMD build --keep-empty-dirs --no-resave-data SpaNorm StartedAt: 2025-02-03 22:16:50 -0500 (Mon, 03 Feb 2025) EndedAt: 2025-02-03 22:27:00 -0500 (Mon, 03 Feb 2025) EllapsedTime: 610.1 seconds RetCode: 0 Status: OK PackageFile: SpaNorm_1.0.0.tar.gz PackageFileSize: 5.545 MiB