Package: SpaNorm Version: 1.0.0 Command: /home/biocbuild/R/R/bin/R CMD build --keep-empty-dirs --no-resave-data SpaNorm StartedAt: 2025-01-31 02:51:22 -0000 (Fri, 31 Jan 2025) EndedAt: 2025-01-31 02:56:19 -0000 (Fri, 31 Jan 2025) EllapsedTime: 297.2 seconds RetCode: 0 Status: OK PackageFile: SpaNorm_1.0.0.tar.gz PackageFileSize: 6.029 MiB